BEGIN:VCALENDAR
VERSION:2.0
PRODID:icalendar-ruby
CALSCALE:GREGORIAN
METHOD:PUBLISH
BEGIN:VEVENT
DTSTAMP:20260422T001903Z
UID:7-268443@wheatlandavenuerolcc.org
DTSTART:20260901T170000Z
DTEND:20260901T180000Z
CLASS:PUBLIC
CREATED:20260305T072447
DESCRIPTION:Bible Study
LAST-MODIFIED:20260305T072447
LOCATION:River of Life Christian Church
SUMMARY:Bible Study
URL;VALUE=URI:https://www.wheatlandavenuerolcc.org/events/bible-study/2026-
 09-01
END:VEVENT
END:VCALENDAR
