BEGIN:VCALENDAR
VERSION:2.0
PRODID:icalendar-ruby
CALSCALE:GREGORIAN
METHOD:PUBLISH
BEGIN:VEVENT
DTSTAMP:20260421T155803Z
UID:7-268438@wheatlandavenuerolcc.org
DTSTART:20260728T170000Z
DTEND:20260728T180000Z
CLASS:PUBLIC
CREATED:20260305T072446
DESCRIPTION:Bible Study
LAST-MODIFIED:20260305T072446
LOCATION:River of Life Christian Church
SUMMARY:Bible Study
URL;VALUE=URI:https://www.wheatlandavenuerolcc.org/events/bible-study/2026-
 07-28
END:VEVENT
END:VCALENDAR
